BEGIN:VCALENDAR
VERSION:2.0
PRODID:-//Ponce City Market - ECPv6.15.20//NONSGML v1.0//EN
CALSCALE:GREGORIAN
METHOD:PUBLISH
X-WR-CALNAME:Ponce City Market
X-ORIGINAL-URL:https://poncecitymarket.com
X-WR-CALDESC:Events for Ponce City Market
REFRESH-INTERVAL;VALUE=DURATION:PT1H
X-Robots-Tag:noindex
X-PUBLISHED-TTL:PT1H
BEGIN:VTIMEZONE
TZID:UTC
BEGIN:STANDARD
TZOFFSETFROM:+0000
TZOFFSETTO:+0000
TZNAME:UTC
DTSTART:20290101T000000
END:STANDARD
END:VTIMEZONE
BEGIN:VEVENT
DTSTART;TZID=UTC:20300512T110000
DTEND;TZID=UTC:20300512T130000
DTSTAMP:20260422T091306
CREATED:20250804T145551Z
LAST-MODIFIED:20250804T145551Z
UID:10000909-1904814000-1904821200@poncecitymarket.com
SUMMARY:Chai & Chill
DESCRIPTION:Stop by Do Not Disturb every second Sunday of the month to enjoy a complimentary chai or matcha beverage. Guests can sip their drink before or after their session or relax in the comfort of the serene Relax Room. Come unwind and treat yourself.
URL:https://poncecitymarket.com/event/chai-chill/2030-05-12/
LOCATION:Do Not Disturb
ATTACH;FMTTYPE=image/png:https://poncecitymarket.com/wp-content/uploads/2025/08/CHAI-CHILL-website-Brandon-Chubb.png
END:VEVENT
BEGIN:VEVENT
DTSTART;TZID=UTC:20300609T110000
DTEND;TZID=UTC:20300609T130000
DTSTAMP:20260422T091306
CREATED:20250804T145551Z
LAST-MODIFIED:20250804T145551Z
UID:10000910-1907233200-1907240400@poncecitymarket.com
SUMMARY:Chai & Chill
DESCRIPTION:Stop by Do Not Disturb every second Sunday of the month to enjoy a complimentary chai or matcha beverage. Guests can sip their drink before or after their session or relax in the comfort of the serene Relax Room. Come unwind and treat yourself.
URL:https://poncecitymarket.com/event/chai-chill/2030-06-09/
LOCATION:Do Not Disturb
ATTACH;FMTTYPE=image/png:https://poncecitymarket.com/wp-content/uploads/2025/08/CHAI-CHILL-website-Brandon-Chubb.png
END:VEVENT
BEGIN:VEVENT
DTSTART;TZID=UTC:20300714T110000
DTEND;TZID=UTC:20300714T130000
DTSTAMP:20260422T091306
CREATED:20250804T145551Z
LAST-MODIFIED:20250804T145551Z
UID:10000911-1910257200-1910264400@poncecitymarket.com
SUMMARY:Chai & Chill
DESCRIPTION:Stop by Do Not Disturb every second Sunday of the month to enjoy a complimentary chai or matcha beverage. Guests can sip their drink before or after their session or relax in the comfort of the serene Relax Room. Come unwind and treat yourself.
URL:https://poncecitymarket.com/event/chai-chill/2030-07-14/
LOCATION:Do Not Disturb
ATTACH;FMTTYPE=image/png:https://poncecitymarket.com/wp-content/uploads/2025/08/CHAI-CHILL-website-Brandon-Chubb.png
END:VEVENT
END:VCALENDAR