BEGIN:VCALENDAR
VERSION:2.0
PRODID:-//Ponce City Market - ECPv6.15.20//NONSGML v1.0//EN
CALSCALE:GREGORIAN
METHOD:PUBLISH
X-ORIGINAL-URL:https://poncecitymarket.com
X-WR-CALDESC:Events for Ponce City Market
REFRESH-INTERVAL;VALUE=DURATION:PT1H
X-Robots-Tag:noindex
X-PUBLISHED-TTL:PT1H
BEGIN:VTIMEZONE
TZID:UTC
BEGIN:STANDARD
TZOFFSETFROM:+0000
TZOFFSETTO:+0000
TZNAME:UTC
DTSTART:20250101T000000
END:STANDARD
END:VTIMEZONE
BEGIN:VEVENT
DTSTART;TZID=UTC:20261130T183000
DTEND;TZID=UTC:20261130T203000
DTSTAMP:20260420T140035
CREATED:20250811T144449Z
LAST-MODIFIED:20250811T144449Z
UID:10001243-1796063400-1796070600@poncecitymarket.com
SUMMARY:Atlanta Run Club
DESCRIPTION:Every week on The Yard. Open to all levels. Walking is welcome. Regular communication regarding run details can be found on our Discord & Instagram.
URL:https://poncecitymarket.com/event/atlanta-run-club/2026-11-30/
LOCATION:The Yard
ATTACH;FMTTYPE=image/png:https://poncecitymarket.com/wp-content/uploads/2025/05/IMG_1257-e1754923461173.png
END:VEVENT
BEGIN:VEVENT
DTSTART;TZID=UTC:20261202T183000
DTEND;TZID=UTC:20261202T193000
DTSTAMP:20260420T140035
CREATED:20250521T203835Z
LAST-MODIFIED:20260417T182530Z
UID:10002216-1796236200-1796239800@poncecitymarket.com
SUMMARY:Lululemon EARTHSTRONG Series
DESCRIPTION:Stretch your body and calm your mind with yoga\, meditation\, breathwork\, sound healing\, and other practices in this series. Flow through poses under the sun\, connect with nature\, and soak in the vibrant energy of Atlanta while joining a community of like-minded individuals. \nGrab a drink from Majesteas\, Atlanta’s favorite tea vendor\, after class. Bring your own mat and water\, and arrive 15 minutes early to pick your spot on the green. Parking is available in the basement level of the PCM garage. Classes are free and open to all. \nPowered by Lululemon.
URL:https://poncecitymarket.com/event/lululemon-earthstrong-series-6/2026-12-02/
LOCATION:The Yard
ATTACH;FMTTYPE=image/jpeg:https://poncecitymarket.com/wp-content/uploads/2025/05/4J7A9646_websize-1.jpg
END:VEVENT
BEGIN:VEVENT
DTSTART;TZID=UTC:20261207T183000
DTEND;TZID=UTC:20261207T203000
DTSTAMP:20260420T140035
CREATED:20250811T144449Z
LAST-MODIFIED:20250811T144449Z
UID:10001244-1796668200-1796675400@poncecitymarket.com
SUMMARY:Atlanta Run Club
DESCRIPTION:Every week on The Yard. Open to all levels. Walking is welcome. Regular communication regarding run details can be found on our Discord & Instagram.
URL:https://poncecitymarket.com/event/atlanta-run-club/2026-12-07/
LOCATION:The Yard
ATTACH;FMTTYPE=image/png:https://poncecitymarket.com/wp-content/uploads/2025/05/IMG_1257-e1754923461173.png
END:VEVENT
BEGIN:VEVENT
DTSTART;TZID=UTC:20261214T183000
DTEND;TZID=UTC:20261214T203000
DTSTAMP:20260420T140035
CREATED:20250811T144449Z
LAST-MODIFIED:20250811T144449Z
UID:10001245-1797273000-1797280200@poncecitymarket.com
SUMMARY:Atlanta Run Club
DESCRIPTION:Every week on The Yard. Open to all levels. Walking is welcome. Regular communication regarding run details can be found on our Discord & Instagram.
URL:https://poncecitymarket.com/event/atlanta-run-club/2026-12-14/
LOCATION:The Yard
ATTACH;FMTTYPE=image/png:https://poncecitymarket.com/wp-content/uploads/2025/05/IMG_1257-e1754923461173.png
END:VEVENT
BEGIN:VEVENT
DTSTART;TZID=UTC:20261216T183000
DTEND;TZID=UTC:20261216T193000
DTSTAMP:20260420T140035
CREATED:20250521T203835Z
LAST-MODIFIED:20260417T182530Z
UID:10002217-1797445800-1797449400@poncecitymarket.com
SUMMARY:Lululemon EARTHSTRONG Series
DESCRIPTION:Stretch your body and calm your mind with yoga\, meditation\, breathwork\, sound healing\, and other practices in this series. Flow through poses under the sun\, connect with nature\, and soak in the vibrant energy of Atlanta while joining a community of like-minded individuals. \nGrab a drink from Majesteas\, Atlanta’s favorite tea vendor\, after class. Bring your own mat and water\, and arrive 15 minutes early to pick your spot on the green. Parking is available in the basement level of the PCM garage. Classes are free and open to all. \nPowered by Lululemon.
URL:https://poncecitymarket.com/event/lululemon-earthstrong-series-6/2026-12-16/
LOCATION:The Yard
ATTACH;FMTTYPE=image/jpeg:https://poncecitymarket.com/wp-content/uploads/2025/05/4J7A9646_websize-1.jpg
END:VEVENT
BEGIN:VEVENT
DTSTART;TZID=UTC:20261221T183000
DTEND;TZID=UTC:20261221T203000
DTSTAMP:20260420T140035
CREATED:20250811T144449Z
LAST-MODIFIED:20250811T144449Z
UID:10001246-1797877800-1797885000@poncecitymarket.com
SUMMARY:Atlanta Run Club
DESCRIPTION:Every week on The Yard. Open to all levels. Walking is welcome. Regular communication regarding run details can be found on our Discord & Instagram.
URL:https://poncecitymarket.com/event/atlanta-run-club/2026-12-21/
LOCATION:The Yard
ATTACH;FMTTYPE=image/png:https://poncecitymarket.com/wp-content/uploads/2025/05/IMG_1257-e1754923461173.png
END:VEVENT
BEGIN:VEVENT
DTSTART;TZID=UTC:20261228T183000
DTEND;TZID=UTC:20261228T203000
DTSTAMP:20260420T140035
CREATED:20250811T144449Z
LAST-MODIFIED:20250811T144449Z
UID:10001247-1798482600-1798489800@poncecitymarket.com
SUMMARY:Atlanta Run Club
DESCRIPTION:Every week on The Yard. Open to all levels. Walking is welcome. Regular communication regarding run details can be found on our Discord & Instagram.
URL:https://poncecitymarket.com/event/atlanta-run-club/2026-12-28/
LOCATION:The Yard
ATTACH;FMTTYPE=image/png:https://poncecitymarket.com/wp-content/uploads/2025/05/IMG_1257-e1754923461173.png
END:VEVENT
BEGIN:VEVENT
DTSTART;TZID=UTC:20261230T183000
DTEND;TZID=UTC:20261230T193000
DTSTAMP:20260420T140035
CREATED:20250521T203835Z
LAST-MODIFIED:20260417T182530Z
UID:10002218-1798655400-1798659000@poncecitymarket.com
SUMMARY:Lululemon EARTHSTRONG Series
DESCRIPTION:Stretch your body and calm your mind with yoga\, meditation\, breathwork\, sound healing\, and other practices in this series. Flow through poses under the sun\, connect with nature\, and soak in the vibrant energy of Atlanta while joining a community of like-minded individuals. \nGrab a drink from Majesteas\, Atlanta’s favorite tea vendor\, after class. Bring your own mat and water\, and arrive 15 minutes early to pick your spot on the green. Parking is available in the basement level of the PCM garage. Classes are free and open to all. \nPowered by Lululemon.
URL:https://poncecitymarket.com/event/lululemon-earthstrong-series-6/2026-12-30/
LOCATION:The Yard
ATTACH;FMTTYPE=image/jpeg:https://poncecitymarket.com/wp-content/uploads/2025/05/4J7A9646_websize-1.jpg
END:VEVENT
BEGIN:VEVENT
DTSTART;TZID=UTC:20270104T183000
DTEND;TZID=UTC:20270104T203000
DTSTAMP:20260420T140035
CREATED:20250811T144449Z
LAST-MODIFIED:20250811T144449Z
UID:10001248-1799087400-1799094600@poncecitymarket.com
SUMMARY:Atlanta Run Club
DESCRIPTION:Every week on The Yard. Open to all levels. Walking is welcome. Regular communication regarding run details can be found on our Discord & Instagram.
URL:https://poncecitymarket.com/event/atlanta-run-club/2027-01-04/
LOCATION:The Yard
ATTACH;FMTTYPE=image/png:https://poncecitymarket.com/wp-content/uploads/2025/05/IMG_1257-e1754923461173.png
END:VEVENT
BEGIN:VEVENT
DTSTART;TZID=UTC:20270111T183000
DTEND;TZID=UTC:20270111T203000
DTSTAMP:20260420T140035
CREATED:20250811T144449Z
LAST-MODIFIED:20250811T144449Z
UID:10001249-1799692200-1799699400@poncecitymarket.com
SUMMARY:Atlanta Run Club
DESCRIPTION:Every week on The Yard. Open to all levels. Walking is welcome. Regular communication regarding run details can be found on our Discord & Instagram.
URL:https://poncecitymarket.com/event/atlanta-run-club/2027-01-11/
LOCATION:The Yard
ATTACH;FMTTYPE=image/png:https://poncecitymarket.com/wp-content/uploads/2025/05/IMG_1257-e1754923461173.png
END:VEVENT
BEGIN:VEVENT
DTSTART;TZID=UTC:20270113T183000
DTEND;TZID=UTC:20270113T193000
DTSTAMP:20260420T140035
CREATED:20250521T203835Z
LAST-MODIFIED:20260417T182530Z
UID:10002219-1799865000-1799868600@poncecitymarket.com
SUMMARY:Lululemon EARTHSTRONG Series
DESCRIPTION:Stretch your body and calm your mind with yoga\, meditation\, breathwork\, sound healing\, and other practices in this series. Flow through poses under the sun\, connect with nature\, and soak in the vibrant energy of Atlanta while joining a community of like-minded individuals. \nGrab a drink from Majesteas\, Atlanta’s favorite tea vendor\, after class. Bring your own mat and water\, and arrive 15 minutes early to pick your spot on the green. Parking is available in the basement level of the PCM garage. Classes are free and open to all. \nPowered by Lululemon.
URL:https://poncecitymarket.com/event/lululemon-earthstrong-series-6/2027-01-13/
LOCATION:The Yard
ATTACH;FMTTYPE=image/jpeg:https://poncecitymarket.com/wp-content/uploads/2025/05/4J7A9646_websize-1.jpg
END:VEVENT
BEGIN:VEVENT
DTSTART;TZID=UTC:20270118T183000
DTEND;TZID=UTC:20270118T203000
DTSTAMP:20260420T140035
CREATED:20250811T144449Z
LAST-MODIFIED:20250811T144449Z
UID:10001250-1800297000-1800304200@poncecitymarket.com
SUMMARY:Atlanta Run Club
DESCRIPTION:Every week on The Yard. Open to all levels. Walking is welcome. Regular communication regarding run details can be found on our Discord & Instagram.
URL:https://poncecitymarket.com/event/atlanta-run-club/2027-01-18/
LOCATION:The Yard
ATTACH;FMTTYPE=image/png:https://poncecitymarket.com/wp-content/uploads/2025/05/IMG_1257-e1754923461173.png
END:VEVENT
BEGIN:VEVENT
DTSTART;TZID=UTC:20270125T183000
DTEND;TZID=UTC:20270125T203000
DTSTAMP:20260420T140035
CREATED:20250811T144449Z
LAST-MODIFIED:20250811T144449Z
UID:10001251-1800901800-1800909000@poncecitymarket.com
SUMMARY:Atlanta Run Club
DESCRIPTION:Every week on The Yard. Open to all levels. Walking is welcome. Regular communication regarding run details can be found on our Discord & Instagram.
URL:https://poncecitymarket.com/event/atlanta-run-club/2027-01-25/
LOCATION:The Yard
ATTACH;FMTTYPE=image/png:https://poncecitymarket.com/wp-content/uploads/2025/05/IMG_1257-e1754923461173.png
END:VEVENT
BEGIN:VEVENT
DTSTART;TZID=UTC:20270127T183000
DTEND;TZID=UTC:20270127T193000
DTSTAMP:20260420T140035
CREATED:20250521T203835Z
LAST-MODIFIED:20260417T182530Z
UID:10002220-1801074600-1801078200@poncecitymarket.com
SUMMARY:Lululemon EARTHSTRONG Series
DESCRIPTION:Stretch your body and calm your mind with yoga\, meditation\, breathwork\, sound healing\, and other practices in this series. Flow through poses under the sun\, connect with nature\, and soak in the vibrant energy of Atlanta while joining a community of like-minded individuals. \nGrab a drink from Majesteas\, Atlanta’s favorite tea vendor\, after class. Bring your own mat and water\, and arrive 15 minutes early to pick your spot on the green. Parking is available in the basement level of the PCM garage. Classes are free and open to all. \nPowered by Lululemon.
URL:https://poncecitymarket.com/event/lululemon-earthstrong-series-6/2027-01-27/
LOCATION:The Yard
ATTACH;FMTTYPE=image/jpeg:https://poncecitymarket.com/wp-content/uploads/2025/05/4J7A9646_websize-1.jpg
END:VEVENT
BEGIN:VEVENT
DTSTART;TZID=UTC:20270201T183000
DTEND;TZID=UTC:20270201T203000
DTSTAMP:20260420T140035
CREATED:20250811T144449Z
LAST-MODIFIED:20250811T144449Z
UID:10001252-1801506600-1801513800@poncecitymarket.com
SUMMARY:Atlanta Run Club
DESCRIPTION:Every week on The Yard. Open to all levels. Walking is welcome. Regular communication regarding run details can be found on our Discord & Instagram.
URL:https://poncecitymarket.com/event/atlanta-run-club/2027-02-01/
LOCATION:The Yard
ATTACH;FMTTYPE=image/png:https://poncecitymarket.com/wp-content/uploads/2025/05/IMG_1257-e1754923461173.png
END:VEVENT
BEGIN:VEVENT
DTSTART;TZID=UTC:20270208T183000
DTEND;TZID=UTC:20270208T203000
DTSTAMP:20260420T140035
CREATED:20250811T144449Z
LAST-MODIFIED:20250811T144449Z
UID:10001253-1802111400-1802118600@poncecitymarket.com
SUMMARY:Atlanta Run Club
DESCRIPTION:Every week on The Yard. Open to all levels. Walking is welcome. Regular communication regarding run details can be found on our Discord & Instagram.
URL:https://poncecitymarket.com/event/atlanta-run-club/2027-02-08/
LOCATION:The Yard
ATTACH;FMTTYPE=image/png:https://poncecitymarket.com/wp-content/uploads/2025/05/IMG_1257-e1754923461173.png
END:VEVENT
BEGIN:VEVENT
DTSTART;TZID=UTC:20270210T183000
DTEND;TZID=UTC:20270210T193000
DTSTAMP:20260420T140035
CREATED:20250521T203835Z
LAST-MODIFIED:20260417T182530Z
UID:10002221-1802284200-1802287800@poncecitymarket.com
SUMMARY:Lululemon EARTHSTRONG Series
DESCRIPTION:Stretch your body and calm your mind with yoga\, meditation\, breathwork\, sound healing\, and other practices in this series. Flow through poses under the sun\, connect with nature\, and soak in the vibrant energy of Atlanta while joining a community of like-minded individuals. \nGrab a drink from Majesteas\, Atlanta’s favorite tea vendor\, after class. Bring your own mat and water\, and arrive 15 minutes early to pick your spot on the green. Parking is available in the basement level of the PCM garage. Classes are free and open to all. \nPowered by Lululemon.
URL:https://poncecitymarket.com/event/lululemon-earthstrong-series-6/2027-02-10/
LOCATION:The Yard
ATTACH;FMTTYPE=image/jpeg:https://poncecitymarket.com/wp-content/uploads/2025/05/4J7A9646_websize-1.jpg
END:VEVENT
BEGIN:VEVENT
DTSTART;TZID=UTC:20270215T183000
DTEND;TZID=UTC:20270215T203000
DTSTAMP:20260420T140035
CREATED:20250811T144449Z
LAST-MODIFIED:20250811T144449Z
UID:10001254-1802716200-1802723400@poncecitymarket.com
SUMMARY:Atlanta Run Club
DESCRIPTION:Every week on The Yard. Open to all levels. Walking is welcome. Regular communication regarding run details can be found on our Discord & Instagram.
URL:https://poncecitymarket.com/event/atlanta-run-club/2027-02-15/
LOCATION:The Yard
ATTACH;FMTTYPE=image/png:https://poncecitymarket.com/wp-content/uploads/2025/05/IMG_1257-e1754923461173.png
END:VEVENT
BEGIN:VEVENT
DTSTART;TZID=UTC:20270222T183000
DTEND;TZID=UTC:20270222T203000
DTSTAMP:20260420T140035
CREATED:20250811T144449Z
LAST-MODIFIED:20250811T144449Z
UID:10001255-1803321000-1803328200@poncecitymarket.com
SUMMARY:Atlanta Run Club
DESCRIPTION:Every week on The Yard. Open to all levels. Walking is welcome. Regular communication regarding run details can be found on our Discord & Instagram.
URL:https://poncecitymarket.com/event/atlanta-run-club/2027-02-22/
LOCATION:The Yard
ATTACH;FMTTYPE=image/png:https://poncecitymarket.com/wp-content/uploads/2025/05/IMG_1257-e1754923461173.png
END:VEVENT
BEGIN:VEVENT
DTSTART;TZID=UTC:20270224T183000
DTEND;TZID=UTC:20270224T193000
DTSTAMP:20260420T140035
CREATED:20250521T203835Z
LAST-MODIFIED:20260417T182530Z
UID:10002222-1803493800-1803497400@poncecitymarket.com
SUMMARY:Lululemon EARTHSTRONG Series
DESCRIPTION:Stretch your body and calm your mind with yoga\, meditation\, breathwork\, sound healing\, and other practices in this series. Flow through poses under the sun\, connect with nature\, and soak in the vibrant energy of Atlanta while joining a community of like-minded individuals. \nGrab a drink from Majesteas\, Atlanta’s favorite tea vendor\, after class. Bring your own mat and water\, and arrive 15 minutes early to pick your spot on the green. Parking is available in the basement level of the PCM garage. Classes are free and open to all. \nPowered by Lululemon.
URL:https://poncecitymarket.com/event/lululemon-earthstrong-series-6/2027-02-24/
LOCATION:The Yard
ATTACH;FMTTYPE=image/jpeg:https://poncecitymarket.com/wp-content/uploads/2025/05/4J7A9646_websize-1.jpg
END:VEVENT
BEGIN:VEVENT
DTSTART;TZID=UTC:20270301T183000
DTEND;TZID=UTC:20270301T203000
DTSTAMP:20260420T140035
CREATED:20250811T144449Z
LAST-MODIFIED:20250811T144449Z
UID:10001256-1803925800-1803933000@poncecitymarket.com
SUMMARY:Atlanta Run Club
DESCRIPTION:Every week on The Yard. Open to all levels. Walking is welcome. Regular communication regarding run details can be found on our Discord & Instagram.
URL:https://poncecitymarket.com/event/atlanta-run-club/2027-03-01/
LOCATION:The Yard
ATTACH;FMTTYPE=image/png:https://poncecitymarket.com/wp-content/uploads/2025/05/IMG_1257-e1754923461173.png
END:VEVENT
BEGIN:VEVENT
DTSTART;TZID=UTC:20270308T183000
DTEND;TZID=UTC:20270308T203000
DTSTAMP:20260420T140035
CREATED:20250811T144449Z
LAST-MODIFIED:20250811T144449Z
UID:10001257-1804530600-1804537800@poncecitymarket.com
SUMMARY:Atlanta Run Club
DESCRIPTION:Every week on The Yard. Open to all levels. Walking is welcome. Regular communication regarding run details can be found on our Discord & Instagram.
URL:https://poncecitymarket.com/event/atlanta-run-club/2027-03-08/
LOCATION:The Yard
ATTACH;FMTTYPE=image/png:https://poncecitymarket.com/wp-content/uploads/2025/05/IMG_1257-e1754923461173.png
END:VEVENT
BEGIN:VEVENT
DTSTART;TZID=UTC:20270310T183000
DTEND;TZID=UTC:20270310T193000
DTSTAMP:20260420T140035
CREATED:20250521T203835Z
LAST-MODIFIED:20260417T182530Z
UID:10002223-1804703400-1804707000@poncecitymarket.com
SUMMARY:Lululemon EARTHSTRONG Series
DESCRIPTION:Stretch your body and calm your mind with yoga\, meditation\, breathwork\, sound healing\, and other practices in this series. Flow through poses under the sun\, connect with nature\, and soak in the vibrant energy of Atlanta while joining a community of like-minded individuals. \nGrab a drink from Majesteas\, Atlanta’s favorite tea vendor\, after class. Bring your own mat and water\, and arrive 15 minutes early to pick your spot on the green. Parking is available in the basement level of the PCM garage. Classes are free and open to all. \nPowered by Lululemon.
URL:https://poncecitymarket.com/event/lululemon-earthstrong-series-6/2027-03-10/
LOCATION:The Yard
ATTACH;FMTTYPE=image/jpeg:https://poncecitymarket.com/wp-content/uploads/2025/05/4J7A9646_websize-1.jpg
END:VEVENT
BEGIN:VEVENT
DTSTART;TZID=UTC:20270315T183000
DTEND;TZID=UTC:20270315T203000
DTSTAMP:20260420T140035
CREATED:20250811T144449Z
LAST-MODIFIED:20250811T144449Z
UID:10001258-1805135400-1805142600@poncecitymarket.com
SUMMARY:Atlanta Run Club
DESCRIPTION:Every week on The Yard. Open to all levels. Walking is welcome. Regular communication regarding run details can be found on our Discord & Instagram.
URL:https://poncecitymarket.com/event/atlanta-run-club/2027-03-15/
LOCATION:The Yard
ATTACH;FMTTYPE=image/png:https://poncecitymarket.com/wp-content/uploads/2025/05/IMG_1257-e1754923461173.png
END:VEVENT
BEGIN:VEVENT
DTSTART;TZID=UTC:20270322T183000
DTEND;TZID=UTC:20270322T203000
DTSTAMP:20260420T140035
CREATED:20250811T144449Z
LAST-MODIFIED:20250811T144449Z
UID:10001259-1805740200-1805747400@poncecitymarket.com
SUMMARY:Atlanta Run Club
DESCRIPTION:Every week on The Yard. Open to all levels. Walking is welcome. Regular communication regarding run details can be found on our Discord & Instagram.
URL:https://poncecitymarket.com/event/atlanta-run-club/2027-03-22/
LOCATION:The Yard
ATTACH;FMTTYPE=image/png:https://poncecitymarket.com/wp-content/uploads/2025/05/IMG_1257-e1754923461173.png
END:VEVENT
BEGIN:VEVENT
DTSTART;TZID=UTC:20270324T183000
DTEND;TZID=UTC:20270324T193000
DTSTAMP:20260420T140035
CREATED:20250521T203835Z
LAST-MODIFIED:20260417T182530Z
UID:10002224-1805913000-1805916600@poncecitymarket.com
SUMMARY:Lululemon EARTHSTRONG Series
DESCRIPTION:Stretch your body and calm your mind with yoga\, meditation\, breathwork\, sound healing\, and other practices in this series. Flow through poses under the sun\, connect with nature\, and soak in the vibrant energy of Atlanta while joining a community of like-minded individuals. \nGrab a drink from Majesteas\, Atlanta’s favorite tea vendor\, after class. Bring your own mat and water\, and arrive 15 minutes early to pick your spot on the green. Parking is available in the basement level of the PCM garage. Classes are free and open to all. \nPowered by Lululemon.
URL:https://poncecitymarket.com/event/lululemon-earthstrong-series-6/2027-03-24/
LOCATION:The Yard
ATTACH;FMTTYPE=image/jpeg:https://poncecitymarket.com/wp-content/uploads/2025/05/4J7A9646_websize-1.jpg
END:VEVENT
BEGIN:VEVENT
DTSTART;TZID=UTC:20270329T183000
DTEND;TZID=UTC:20270329T203000
DTSTAMP:20260420T140035
CREATED:20250811T144449Z
LAST-MODIFIED:20250811T144449Z
UID:10001260-1806345000-1806352200@poncecitymarket.com
SUMMARY:Atlanta Run Club
DESCRIPTION:Every week on The Yard. Open to all levels. Walking is welcome. Regular communication regarding run details can be found on our Discord & Instagram.
URL:https://poncecitymarket.com/event/atlanta-run-club/2027-03-29/
LOCATION:The Yard
ATTACH;FMTTYPE=image/png:https://poncecitymarket.com/wp-content/uploads/2025/05/IMG_1257-e1754923461173.png
END:VEVENT
BEGIN:VEVENT
DTSTART;TZID=UTC:20270405T183000
DTEND;TZID=UTC:20270405T203000
DTSTAMP:20260420T140035
CREATED:20250811T144449Z
LAST-MODIFIED:20250811T144449Z
UID:10001261-1806949800-1806957000@poncecitymarket.com
SUMMARY:Atlanta Run Club
DESCRIPTION:Every week on The Yard. Open to all levels. Walking is welcome. Regular communication regarding run details can be found on our Discord & Instagram.
URL:https://poncecitymarket.com/event/atlanta-run-club/2027-04-05/
LOCATION:The Yard
ATTACH;FMTTYPE=image/png:https://poncecitymarket.com/wp-content/uploads/2025/05/IMG_1257-e1754923461173.png
END:VEVENT
BEGIN:VEVENT
DTSTART;TZID=UTC:20270407T183000
DTEND;TZID=UTC:20270407T193000
DTSTAMP:20260420T140035
CREATED:20250521T203835Z
LAST-MODIFIED:20260417T182530Z
UID:10002225-1807122600-1807126200@poncecitymarket.com
SUMMARY:Lululemon EARTHSTRONG Series
DESCRIPTION:Stretch your body and calm your mind with yoga\, meditation\, breathwork\, sound healing\, and other practices in this series. Flow through poses under the sun\, connect with nature\, and soak in the vibrant energy of Atlanta while joining a community of like-minded individuals. \nGrab a drink from Majesteas\, Atlanta’s favorite tea vendor\, after class. Bring your own mat and water\, and arrive 15 minutes early to pick your spot on the green. Parking is available in the basement level of the PCM garage. Classes are free and open to all. \nPowered by Lululemon.
URL:https://poncecitymarket.com/event/lululemon-earthstrong-series-6/2027-04-07/
LOCATION:The Yard
ATTACH;FMTTYPE=image/jpeg:https://poncecitymarket.com/wp-content/uploads/2025/05/4J7A9646_websize-1.jpg
END:VEVENT
BEGIN:VEVENT
DTSTART;TZID=UTC:20270412T183000
DTEND;TZID=UTC:20270412T203000
DTSTAMP:20260420T140035
CREATED:20250811T144449Z
LAST-MODIFIED:20250811T144449Z
UID:10001262-1807554600-1807561800@poncecitymarket.com
SUMMARY:Atlanta Run Club
DESCRIPTION:Every week on The Yard. Open to all levels. Walking is welcome. Regular communication regarding run details can be found on our Discord & Instagram.
URL:https://poncecitymarket.com/event/atlanta-run-club/2027-04-12/
LOCATION:The Yard
ATTACH;FMTTYPE=image/png:https://poncecitymarket.com/wp-content/uploads/2025/05/IMG_1257-e1754923461173.png
END:VEVENT
END:VCALENDAR